BEGIN:VCALENDAR
VERSION:2.0
PRODID:-//Mutiny Diving - Dover - ECPv6.15.20//NONSGML v1.0//EN
CALSCALE:GREGORIAN
METHOD:PUBLISH
X-WR-CALNAME:Mutiny Diving - Dover
X-ORIGINAL-URL:https://mutinydiving.com
X-WR-CALDESC:Events for Mutiny Diving - Dover
REFRESH-INTERVAL;VALUE=DURATION:PT1H
X-Robots-Tag:noindex
X-PUBLISHED-TTL:PT1H
BEGIN:VTIMEZONE
TZID:Europe/London
BEGIN:DAYLIGHT
TZOFFSETFROM:+0000
TZOFFSETTO:+0100
TZNAME:BST
DTSTART:20250330T010000
END:DAYLIGHT
BEGIN:STANDARD
TZOFFSETFROM:+0100
TZOFFSETTO:+0000
TZNAME:GMT
DTSTART:20251026T010000
END:STANDARD
BEGIN:DAYLIGHT
TZOFFSETFROM:+0000
TZOFFSETTO:+0100
TZNAME:BST
DTSTART:20260329T010000
END:DAYLIGHT
BEGIN:STANDARD
TZOFFSETFROM:+0100
TZOFFSETTO:+0000
TZNAME:GMT
DTSTART:20261025T010000
END:STANDARD
BEGIN:DAYLIGHT
TZOFFSETFROM:+0000
TZOFFSETTO:+0100
TZNAME:BST
DTSTART:20270328T010000
END:DAYLIGHT
BEGIN:STANDARD
TZOFFSETFROM:+0100
TZOFFSETTO:+0000
TZNAME:GMT
DTSTART:20271031T010000
END:STANDARD
END:VTIMEZONE
BEGIN:VEVENT
DTSTART;TZID=Europe/London:20260606T053000
DTEND;TZID=Europe/London:20260606T053000
DTSTAMP:20260422T230004
CREATED:20260416T120945Z
LAST-MODIFIED:20260421T075154Z
UID:10000023-1780723800-1780723800@mutinydiving.com
SUMMARY:SS Carmen (1963)
DESCRIPTION:
URL:https://mutinydiving.com/trip/ss-carmen-1963/
LOCATION:Dover Marina\, Esplanade\, Dover\, Kent\, CT17 9FS\, United Kingdom
CATEGORIES:Deep Week,Local Wrecks
ATTACH;FMTTYPE=image/webp:https://mutinydiving.com/wp-content/uploads/2026/04/SS-Carmen.webp
ORGANIZER;CN="Chris Webb":MAILTO:skipper@mutinydiving.com
END:VEVENT
END:VCALENDAR